BEGIN:VCALENDAR
VERSION:2.0
PRODID:-//horsealert.local//NONSGML kigkonsult.se iCalcreator 2.10.5//
CALSCALE:GREGORIAN
X-WR-TIMEZONE:Europe/Dublin
BEGIN:VTIMEZONE
TZID:Etc/GMT-1
BEGIN:STANDARD
DTSTART:20010101T000000
TZOFFSETFROM:+0100
TZOFFSETTO:+0100
TZNAME:GMT +01:00
END:STANDARD
END:VTIMEZONE
BEGIN:VEVENT
UID:20260422T182528CEST-4071va7RwE@horsealert.local
DTSTAMP:20260422T160428Z
CATEGORIES:Horse Alerts
DESCRIPTION:Emerald Facility Services Event Cleaning Handicap
DTSTART:20160708T181000
LOCATION:Eire
SUMMARY:Horse Racing:Emerald Facility Services Event Cleaning Handicap
END:VEVENT
END:VCALENDAR
