BEGIN:VCALENDAR
VERSION:2.0
PRODID:-//horsealert.local//NONSGML kigkonsult.se iCalcreator 2.10.5//
CALSCALE:GREGORIAN
X-WR-TIMEZONE:Europe/Dublin
BEGIN:VTIMEZONE
TZID:Etc/GMT-1
BEGIN:STANDARD
DTSTART:20010101T000000
TZOFFSETFROM:+0100
TZOFFSETTO:+0100
TZNAME:GMT +01:00
END:STANDARD
END:VTIMEZONE
BEGIN:VEVENT
UID:20260422T182509CEST-0061CeSsK4@horsealert.local
DTSTAMP:20260422T160409Z
CATEGORIES:Horse Alerts
DESCRIPTION:Duchess Of Cambridge Stakes (Sponsored By Imagine Cruising) (Fi
 llies' Group 2) (Formerly The Cherry Hinton Stakes)
DTSTART:20160708T154500
LOCATION:England
SUMMARY:Horse Racing:Duchess Of Cambridge Stakes (Sponsored By Imagine Crui
 sing) (Fillies' Group 2) (Formerly The Cherry Hinton Stakes)
END:VEVENT
END:VCALENDAR
