BEGIN:VCALENDAR
VERSION:2.0
PRODID:-//horsealert.local//NONSGML kigkonsult.se iCalcreator 2.10.5//
CALSCALE:GREGORIAN
X-WR-TIMEZONE:Europe/Dublin
BEGIN:VTIMEZONE
TZID:Etc/GMT-1
BEGIN:STANDARD
DTSTART:20010101T000000
TZOFFSETFROM:+0100
TZOFFSETTO:+0100
TZNAME:GMT +01:00
END:STANDARD
END:VTIMEZONE
BEGIN:VEVENT
UID:20260422T182509CEST-4642Bbn2Ej@horsealert.local
DTSTAMP:20260422T160409Z
CATEGORIES:Horse Alerts
DESCRIPTION:Musselburgh Riding Of The Marches Handicap
DTSTART:20160708T155500
LOCATION:Scotland
SUMMARY:Horse Racing:Musselburgh Riding Of The Marches Handicap
END:VEVENT
END:VCALENDAR
