BEGIN:VCALENDAR
VERSION:2.0
PRODID:-//horsealert.local//NONSGML kigkonsult.se iCalcreator 2.10.5//
CALSCALE:GREGORIAN
X-WR-TIMEZONE:Europe/Dublin
BEGIN:VTIMEZONE
TZID:Etc/GMT-1
BEGIN:STANDARD
DTSTART:20010101T000000
TZOFFSETFROM:+0100
TZOFFSETTO:+0100
TZNAME:GMT +01:00
END:STANDARD
END:VTIMEZONE
BEGIN:VEVENT
UID:20260422T182614CEST-8221Ox1LBU@horsealert.local
DTSTAMP:20260422T160414Z
CATEGORIES:Horse Alerts
DESCRIPTION:Musselburgh Bi-Centenary Cup (Fillies' Handicap)
DTSTART:20160708T152500
LOCATION:Scotland
SUMMARY:Horse Racing:Musselburgh Bi-Centenary Cup (Fillies' Handicap)
END:VEVENT
END:VCALENDAR
