BEGIN:VCALENDAR
VERSION:2.0
PRODID:-//horsealert.local//NONSGML kigkonsult.se iCalcreator 2.10.5//
CALSCALE:GREGORIAN
X-WR-TIMEZONE:Europe/Dublin
BEGIN:VTIMEZONE
TZID:Etc/GMT-1
BEGIN:STANDARD
DTSTART:20010101T000000
TZOFFSETFROM:+0100
TZOFFSETTO:+0100
TZNAME:GMT +01:00
END:STANDARD
END:VTIMEZONE
BEGIN:VEVENT
UID:20260422T182440CEST-6330W9TC20@horsealert.local
DTSTAMP:20260422T160440Z
CATEGORIES:Horse Alerts
DESCRIPTION:Welcome To The World Tymeo/EBF Stallions Novice Stakes (Plus 10
 )
DTSTART:20160708T183500
LOCATION:Wales
SUMMARY:Horse Racing:Welcome To The World Tymeo/EBF Stallions Novice Stakes
  (Plus 10)
END:VEVENT
END:VCALENDAR
