BEGIN:VCALENDAR
VERSION:2.0
PRODID:-//horsealert.local//NONSGML kigkonsult.se iCalcreator 2.10.5//
CALSCALE:GREGORIAN
X-WR-TIMEZONE:Europe/Dublin
BEGIN:VTIMEZONE
TZID:Etc/GMT-1
BEGIN:STANDARD
DTSTART:20010101T000000
TZOFFSETFROM:+0100
TZOFFSETTO:+0100
TZNAME:GMT +01:00
END:STANDARD
END:VTIMEZONE
BEGIN:VEVENT
UID:20260422T182638CEST-1655XIp5R9@horsealert.local
DTSTAMP:20260422T160438Z
CATEGORIES:Horse Alerts
DESCRIPTION:n-ergy Celebrating 9 Years Of Success Apprentice Handicap (Part
  Of The Racing Excellence Initiative)
DTSTART:20160708T180500
LOCATION:Wales
SUMMARY:Horse Racing:n-ergy Celebrating 9 Years Of Success Apprentice Handi
 cap (Part Of The Racing Excellence Initiative)
END:VEVENT
END:VCALENDAR
