BEGIN:VCALENDAR
VERSION:2.0
PRODID:-//horsealert.local//NONSGML kigkonsult.se iCalcreator 2.10.5//
CALSCALE:GREGORIAN
X-WR-TIMEZONE:Europe/Dublin
BEGIN:VTIMEZONE
TZID:Etc/GMT-1
BEGIN:STANDARD
DTSTART:20010101T000000
TZOFFSETFROM:+0100
TZOFFSETTO:+0100
TZNAME:GMT +01:00
END:STANDARD
END:VTIMEZONE
BEGIN:VEVENT
UID:20260422T182347CEST-1609uNDfvp@horsealert.local
DTSTAMP:20260422T160447Z
CATEGORIES:Horse Alerts
DESCRIPTION:Newbury - Arab Race - Dubai International Arabian Races at Newb
 ury\, 24th July International Stakes
DTSTART:20160707T172500
LOCATION:England
SUMMARY:Horse Racing:Newbury - Arab Race - Dubai International Arabian Race
 s at Newbury\, 24th July International Stakes
END:VEVENT
END:VCALENDAR
