BEGIN:VCALENDAR
VERSION:2.0
PRODID:-//horsealert.local//NONSGML kigkonsult.se iCalcreator 2.10.5//
CALSCALE:GREGORIAN
X-WR-TIMEZONE:Europe/Dublin
BEGIN:VTIMEZONE
TZID:Etc/GMT-1
BEGIN:STANDARD
DTSTART:20010101T000000
TZOFFSETFROM:+0100
TZOFFSETTO:+0100
TZNAME:GMT +01:00
END:STANDARD
END:VTIMEZONE
BEGIN:VEVENT
UID:20260422T182505CEST-1880cZIvpG@horsealert.local
DTSTAMP:20260422T160405Z
CATEGORIES:Horse Alerts
DESCRIPTION:Plusvital Sir Henry Cecil Stakes (Listed) (Formerly The Stubbs 
 Stakes)
DTSTART:20160707T173000
LOCATION:England
SUMMARY:Horse Racing:Plusvital Sir Henry Cecil Stakes (Listed) (Formerly Th
 e Stubbs Stakes)
END:VEVENT
END:VCALENDAR
