BEGIN:VCALENDAR
VERSION:2.0
PRODID:-//horsealert.local//NONSGML kigkonsult.se iCalcreator 2.10.5//
CALSCALE:GREGORIAN
X-WR-TIMEZONE:Europe/Dublin
BEGIN:VTIMEZONE
TZID:Etc/GMT-1
BEGIN:STANDARD
DTSTART:20010101T000000
TZOFFSETFROM:+0100
TZOFFSETTO:+0100
TZNAME:GMT +01:00
END:STANDARD
END:VTIMEZONE
BEGIN:VEVENT
UID:20260422T182047CEST-0695hU131v@horsealert.local
DTSTAMP:20260422T160447Z
CATEGORIES:Horse Alerts
DESCRIPTION:Premier Food Courts Handicap (Str)
DTSTART:20160707T211000
LOCATION:England
SUMMARY:Horse Racing:Premier Food Courts Handicap (Str)
END:VEVENT
END:VCALENDAR
