BEGIN:VCALENDAR
VERSION:2.0
PRODID:-//horsealert.local//NONSGML kigkonsult.se iCalcreator 2.10.5//
CALSCALE:GREGORIAN
X-WR-TIMEZONE:Europe/Dublin
BEGIN:VTIMEZONE
TZID:Etc/GMT-1
BEGIN:STANDARD
DTSTART:20010101T000000
TZOFFSETFROM:+0100
TZOFFSETTO:+0100
TZNAME:GMT +01:00
END:STANDARD
END:VTIMEZONE
BEGIN:VEVENT
UID:20260422T182051CEST-2689zDf0O3@horsealert.local
DTSTAMP:20260422T160451Z
CATEGORIES:Horse Alerts
DESCRIPTION:Cultural Ambassador Ashley Thomason 50th Birthday Handicap
DTSTART:20160704T191500
LOCATION:England
SUMMARY:Horse Racing:Cultural Ambassador Ashley Thomason 50th Birthday Hand
 icap
END:VEVENT
END:VCALENDAR
