BEGIN:VCALENDAR
VERSION:2.0
PRODID:-//horsealert.local//NONSGML kigkonsult.se iCalcreator 2.10.5//
CALSCALE:GREGORIAN
X-WR-TIMEZONE:Europe/Dublin
BEGIN:VTIMEZONE
TZID:Etc/GMT-1
BEGIN:STANDARD
DTSTART:20010101T000000
TZOFFSETFROM:+0100
TZOFFSETTO:+0100
TZNAME:GMT +01:00
END:STANDARD
END:VTIMEZONE
BEGIN:VEVENT
UID:20260422T182509CEST-7305bH8wk2@horsealert.local
DTSTAMP:20260422T160409Z
CATEGORIES:Horse Alerts
DESCRIPTION:Betfred 'Win Tickets On Our Facebook' Apprentice Training Serie
 s Handicap
DTSTART:20160701T183000
LOCATION:England
SUMMARY:Horse Racing:Betfred 'Win Tickets On Our Facebook' Apprentice Train
 ing Series Handicap
END:VEVENT
END:VCALENDAR
