BEGIN:VCALENDAR
VERSION:2.0
PRODID:-//horsealert.local//NONSGML kigkonsult.se iCalcreator 2.10.5//
CALSCALE:GREGORIAN
X-WR-TIMEZONE:Europe/Dublin
BEGIN:VTIMEZONE
TZID:Etc/GMT-1
BEGIN:STANDARD
DTSTART:20010101T000000
TZOFFSETFROM:+0100
TZOFFSETTO:+0100
TZNAME:GMT +01:00
END:STANDARD
END:VTIMEZONE
BEGIN:VEVENT
UID:20260422T193933CEST-9343eGwD6P@horsealert.local
DTSTAMP:20260422T170433Z
CATEGORIES:Horse Alerts
DESCRIPTION:Follow Great Yarmouth Racecourse On Twitter 'Hands And Heels' S
 eries Apprentice Handicap
DTSTART:20160630T172500
LOCATION:England
SUMMARY:Horse Racing:Follow Great Yarmouth Racecourse On Twitter 'Hands And
  Heels' Series Apprentice Handicap
END:VEVENT
END:VCALENDAR
