BEGIN:VCALENDAR
VERSION:2.0
PRODID:-//horsealert.local//NONSGML kigkonsult.se iCalcreator 2.10.5//
CALSCALE:GREGORIAN
X-WR-TIMEZONE:Europe/Dublin
BEGIN:VTIMEZONE
TZID:Etc/GMT-1
BEGIN:STANDARD
DTSTART:20010101T000000
TZOFFSETFROM:+0100
TZOFFSETTO:+0100
TZNAME:GMT +01:00
END:STANDARD
END:VTIMEZONE
BEGIN:VEVENT
UID:20260422T194031CEST-4138tR1DWl@horsealert.local
DTSTAMP:20260422T170431Z
CATEGORIES:Horse Alerts
DESCRIPTION:Rik Edwards The Preference Share King Fillies' Handicap
DTSTART:20160627T195500
LOCATION:England
SUMMARY:Horse Racing:Rik Edwards The Preference Share King Fillies' Handica
 p
END:VEVENT
END:VCALENDAR
