BEGIN:VCALENDAR
VERSION:2.0
PRODID:-//horsealert.local//NONSGML kigkonsult.se iCalcreator 2.10.5//
CALSCALE:GREGORIAN
X-WR-TIMEZONE:Europe/Dublin
BEGIN:VTIMEZONE
TZID:Etc/GMT-1
BEGIN:STANDARD
DTSTART:20010101T000000
TZOFFSETFROM:+0100
TZOFFSETTO:+0100
TZNAME:GMT +01:00
END:STANDARD
END:VTIMEZONE
BEGIN:VEVENT
UID:20260422T194138CEST-4742W7FUug@horsealert.local
DTSTAMP:20260422T170438Z
CATEGORIES:Horse Alerts
DESCRIPTION:Audrey Martin Memorial Ladies' Handicap (Lady Amateur Riders)
DTSTART:20160627T140000
LOCATION:England
SUMMARY:Horse Racing:Audrey Martin Memorial Ladies' Handicap (Lady Amateur 
 Riders)
END:VEVENT
END:VCALENDAR
