BEGIN:VCALENDAR
VERSION:2.0
PRODID:-//horsealert.local//NONSGML kigkonsult.se iCalcreator 2.10.5//
CALSCALE:GREGORIAN
X-WR-TIMEZONE:Europe/Dublin
BEGIN:VTIMEZONE
TZID:Etc/GMT-1
BEGIN:STANDARD
DTSTART:20010101T000000
TZOFFSETFROM:+0100
TZOFFSETTO:+0100
TZNAME:GMT +01:00
END:STANDARD
END:VTIMEZONE
BEGIN:VEVENT
UID:20260422T194159CEST-7395SfehJj@horsealert.local
DTSTAMP:20260422T170459Z
CATEGORIES:Horse Alerts
DESCRIPTION:Cambridge News Magazine Supporting The AHT Empress Stakes (Fill
 ies' Listed)
DTSTART:20160625T152000
LOCATION:England
SUMMARY:Horse Racing:Cambridge News Magazine Supporting The AHT Empress Sta
 kes (Fillies' Listed)
END:VEVENT
END:VCALENDAR
