BEGIN:VCALENDAR
VERSION:2.0
PRODID:-//horsealert.local//NONSGML kigkonsult.se iCalcreator 2.10.5//
CALSCALE:GREGORIAN
X-WR-TIMEZONE:Europe/Dublin
BEGIN:VTIMEZONE
TZID:Etc/GMT-1
BEGIN:STANDARD
DTSTART:20010101T000000
TZOFFSETFROM:+0100
TZOFFSETTO:+0100
TZNAME:GMT +01:00
END:STANDARD
END:VTIMEZONE
BEGIN:VEVENT
UID:20260422T194326CEST-4310FUsrAN@horsealert.local
DTSTAMP:20260422T170426Z
CATEGORIES:Horse Alerts
DESCRIPTION:Betfred Gosforth Park Cup (Handicap)
DTSTART:20160624T184500
LOCATION:England
SUMMARY:Horse Racing:Betfred Gosforth Park Cup (Handicap)
END:VEVENT
END:VCALENDAR
