BEGIN:VCALENDAR
VERSION:2.0
PRODID:-//horsealert.local//NONSGML kigkonsult.se iCalcreator 2.10.5//
CALSCALE:GREGORIAN
X-WR-TIMEZONE:Europe/Dublin
BEGIN:VTIMEZONE
TZID:Etc/GMT-1
BEGIN:STANDARD
DTSTART:20010101T000000
TZOFFSETFROM:+0100
TZOFFSETTO:+0100
TZNAME:GMT +01:00
END:STANDARD
END:VTIMEZONE
BEGIN:VEVENT
UID:20260422T193801CEST-4960K4UrUa@horsealert.local
DTSTAMP:20260422T170401Z
CATEGORIES:Horse Alerts
DESCRIPTION:Best Odds Guaranteed At 188Bet British Stallions EBF Fillies' N
 ovice Stakes (Plus 10)
DTSTART:20160624T141000
LOCATION:England
SUMMARY:Horse Racing:Best Odds Guaranteed At 188Bet British Stallions EBF F
 illies' Novice Stakes (Plus 10)
END:VEVENT
END:VCALENDAR
