BEGIN:VCALENDAR
VERSION:2.0
PRODID:-//horsealert.local//NONSGML kigkonsult.se iCalcreator 2.10.5//
CALSCALE:GREGORIAN
X-WR-TIMEZONE:Europe/Dublin
BEGIN:VTIMEZONE
TZID:Etc/GMT-1
BEGIN:STANDARD
DTSTART:20010101T000000
TZOFFSETFROM:+0100
TZOFFSETTO:+0100
TZNAME:GMT +01:00
END:STANDARD
END:VTIMEZONE
BEGIN:VEVENT
UID:20260422T193837CEST-8639Wv3SVz@horsealert.local
DTSTAMP:20260422T170437Z
CATEGORIES:Horse Alerts
DESCRIPTION:Dublin Horse Show 20-24 July Handicap
DTSTART:20160623T195500
LOCATION:Eire
SUMMARY:Horse Racing:Dublin Horse Show 20-24 July Handicap
END:VEVENT
END:VCALENDAR
