BEGIN:VCALENDAR
VERSION:2.0
PRODID:-//horsealert.local//NONSGML kigkonsult.se iCalcreator 2.10.5//
CALSCALE:GREGORIAN
X-WR-TIMEZONE:Europe/Dublin
BEGIN:VTIMEZONE
TZID:Etc/GMT-1
BEGIN:STANDARD
DTSTART:20010101T000000
TZOFFSETFROM:+0100
TZOFFSETTO:+0100
TZNAME:GMT +01:00
END:STANDARD
END:VTIMEZONE
BEGIN:VEVENT
UID:20260422T193830CEST-2990XUMjuu@horsealert.local
DTSTAMP:20260422T170430Z
CATEGORIES:Horse Alerts
DESCRIPTION:Omega Ingredients Innovative Natural Flavours Fillies' Handicap
DTSTART:20160623T172000
LOCATION:England
SUMMARY:Horse Racing:Omega Ingredients Innovative Natural Flavours Fillies'
  Handicap
END:VEVENT
END:VCALENDAR
