BEGIN:VCALENDAR
VERSION:2.0
PRODID:-//horsealert.local//NONSGML kigkonsult.se iCalcreator 2.10.5//
CALSCALE:GREGORIAN
X-WR-TIMEZONE:Europe/Dublin
BEGIN:VTIMEZONE
TZID:Etc/GMT-1
BEGIN:STANDARD
DTSTART:20010101T000000
TZOFFSETFROM:+0100
TZOFFSETTO:+0100
TZNAME:GMT +01:00
END:STANDARD
END:VTIMEZONE
BEGIN:VEVENT
UID:20260422T194438CEST-7616cH8ePV@horsealert.local
DTSTAMP:20260422T170438Z
CATEGORIES:Horse Alerts
DESCRIPTION:Lewis Piper\, Happy 18th Birthday Handicap Chase
DTSTART:20160621T193000
LOCATION:England
SUMMARY:Horse Racing:Lewis Piper\, Happy 18th Birthday Handicap Chase
END:VEVENT
END:VCALENDAR
