BEGIN:VCALENDAR
VERSION:2.0
PRODID:-//horsealert.local//NONSGML kigkonsult.se iCalcreator 2.10.5//
CALSCALE:GREGORIAN
X-WR-TIMEZONE:Europe/Dublin
BEGIN:VTIMEZONE
TZID:Etc/GMT-1
BEGIN:STANDARD
DTSTART:20010101T000000
TZOFFSETFROM:+0100
TZOFFSETTO:+0100
TZNAME:GMT +01:00
END:STANDARD
END:VTIMEZONE
BEGIN:VEVENT
UID:20260422T194223CEST-6996iId8Bt@horsealert.local
DTSTAMP:20260422T170423Z
CATEGORIES:Horse Alerts
DESCRIPTION:Watch Live Racing And Bet With Racing UK Handicap (Div 1)
DTSTART:20160621T143000
LOCATION:England
SUMMARY:Horse Racing:Watch Live Racing And Bet With Racing UK Handicap (Div
  1)
END:VEVENT
END:VCALENDAR
