BEGIN:VCALENDAR
VERSION:2.0
PRODID:-//horsealert.local//NONSGML kigkonsult.se iCalcreator 2.10.5//
CALSCALE:GREGORIAN
X-WR-TIMEZONE:Europe/Dublin
BEGIN:VTIMEZONE
TZID:Etc/GMT-1
BEGIN:STANDARD
DTSTART:20010101T000000
TZOFFSETFROM:+0100
TZOFFSETTO:+0100
TZNAME:GMT +01:00
END:STANDARD
END:VTIMEZONE
BEGIN:VEVENT
UID:20260422T194131CEST-7249WV9O31@horsealert.local
DTSTAMP:20260422T170431Z
CATEGORIES:Horse Alerts
DESCRIPTION:Bet On Russia Vs Wales At Ladbrokes Conditional Jockeys' Handic
 ap Hurdle
DTSTART:20160620T171500
LOCATION:England
SUMMARY:Horse Racing:Bet On Russia Vs Wales At Ladbrokes Conditional Jockey
 s' Handicap Hurdle
END:VEVENT
END:VCALENDAR
