BEGIN:VCALENDAR
VERSION:2.0
PRODID:-//horsealert.local//NONSGML kigkonsult.se iCalcreator 2.10.5//
CALSCALE:GREGORIAN
X-WR-TIMEZONE:Europe/Dublin
BEGIN:VTIMEZONE
TZID:Etc/GMT-1
BEGIN:STANDARD
DTSTART:20010101T000000
TZOFFSETFROM:+0100
TZOFFSETTO:+0100
TZNAME:GMT +01:00
END:STANDARD
END:VTIMEZONE
BEGIN:VEVENT
UID:20260422T193934CEST-6665M4GFnU@horsealert.local
DTSTAMP:20260422T170434Z
CATEGORIES:Horse Alerts
DESCRIPTION:Midlands National Ladies Day July 15th Novice Chase
DTSTART:20160620T200000
LOCATION:Eire
SUMMARY:Horse Racing:Midlands National Ladies Day July 15th Novice Chase
END:VEVENT
END:VCALENDAR
