BEGIN:VCALENDAR
VERSION:2.0
PRODID:-//horsealert.local//NONSGML kigkonsult.se iCalcreator 2.10.5//
CALSCALE:GREGORIAN
X-WR-TIMEZONE:Europe/Dublin
BEGIN:VTIMEZONE
TZID:Etc/GMT-1
BEGIN:STANDARD
DTSTART:20010101T000000
TZOFFSETFROM:+0100
TZOFFSETTO:+0100
TZNAME:GMT +01:00
END:STANDARD
END:VTIMEZONE
BEGIN:VEVENT
UID:20260422T193939CEST-7963UnOV5u@horsealert.local
DTSTAMP:20260422T170439Z
CATEGORIES:Horse Alerts
DESCRIPTION:Exclusive Membership At Ramside Spa Handicap Chase
DTSTART:20160619T163000
LOCATION:England
SUMMARY:Horse Racing:Exclusive Membership At Ramside Spa Handicap Chase
END:VEVENT
END:VCALENDAR
