BEGIN:VCALENDAR
VERSION:2.0
PRODID:-//horsealert.local//NONSGML kigkonsult.se iCalcreator 2.10.5//
CALSCALE:GREGORIAN
X-WR-TIMEZONE:Europe/Dublin
BEGIN:VTIMEZONE
TZID:Etc/GMT-1
BEGIN:STANDARD
DTSTART:20010101T000000
TZOFFSETFROM:+0100
TZOFFSETTO:+0100
TZNAME:GMT +01:00
END:STANDARD
END:VTIMEZONE
BEGIN:VEVENT
UID:20260422T194038CEST-6283NMOX1U@horsealert.local
DTSTAMP:20260422T170438Z
CATEGORIES:Horse Alerts
DESCRIPTION:Ballyduane Stud Claiming Race
DTSTART:20160617T173000
LOCATION:Eire
SUMMARY:Horse Racing:Ballyduane Stud Claiming Race
END:VEVENT
END:VCALENDAR
