BEGIN:VCALENDAR
VERSION:2.0
PRODID:-//horsealert.local//NONSGML kigkonsult.se iCalcreator 2.10.5//
CALSCALE:GREGORIAN
X-WR-TIMEZONE:Europe/Dublin
BEGIN:VTIMEZONE
TZID:Etc/GMT-1
BEGIN:STANDARD
DTSTART:20010101T000000
TZOFFSETFROM:+0100
TZOFFSETTO:+0100
TZNAME:GMT +01:00
END:STANDARD
END:VTIMEZONE
BEGIN:VEVENT
UID:20260422T194026CEST-86913Z7Or9@horsealert.local
DTSTAMP:20260422T170426Z
CATEGORIES:Horse Alerts
DESCRIPTION:Betfred TV EBF Fillies' Handicap (Jockey Club Grassroots Flat S
 print Series Qualifier)
DTSTART:20160618T193500
LOCATION:England
SUMMARY:Horse Racing:Betfred TV EBF Fillies' Handicap (Jockey Club Grassroo
 ts Flat Sprint Series Qualifier)
END:VEVENT
END:VCALENDAR
