BEGIN:VCALENDAR
VERSION:2.0
PRODID:-//horsealert.local//NONSGML kigkonsult.se iCalcreator 2.10.5//
CALSCALE:GREGORIAN
X-WR-TIMEZONE:Europe/Dublin
BEGIN:VTIMEZONE
TZID:Etc/GMT-1
BEGIN:STANDARD
DTSTART:20010101T000000
TZOFFSETFROM:+0100
TZOFFSETTO:+0100
TZNAME:GMT +01:00
END:STANDARD
END:VTIMEZONE
BEGIN:VEVENT
UID:20260422T194331CEST-4609eJvZNb@horsealert.local
DTSTAMP:20260422T170431Z
CATEGORIES:Horse Alerts
DESCRIPTION:King Edward VII Stakes (Group 2)
DTSTART:20160617T150500
LOCATION:England
SUMMARY:Horse Racing:King Edward VII Stakes (Group 2)
END:VEVENT
END:VCALENDAR
