BEGIN:VCALENDAR
VERSION:2.0
PRODID:-//horsealert.local//NONSGML kigkonsult.se iCalcreator 2.10.5//
CALSCALE:GREGORIAN
X-WR-TIMEZONE:Europe/Dublin
BEGIN:VTIMEZONE
TZID:Etc/GMT-1
BEGIN:STANDARD
DTSTART:20010101T000000
TZOFFSETFROM:+0100
TZOFFSETTO:+0100
TZNAME:GMT +01:00
END:STANDARD
END:VTIMEZONE
BEGIN:VEVENT
UID:20260422T194331CEST-3699OSApxl@horsealert.local
DTSTAMP:20260422T170431Z
CATEGORIES:Horse Alerts
DESCRIPTION:188BET.co.uk Handicap Hurdle
DTSTART:20160615T185000
LOCATION:Eire
SUMMARY:Horse Racing:188BET.co.uk Handicap Hurdle
END:VEVENT
END:VCALENDAR
