BEGIN:VCALENDAR
VERSION:2.0
PRODID:-//horsealert.local//NONSGML kigkonsult.se iCalcreator 2.10.5//
CALSCALE:GREGORIAN
X-WR-TIMEZONE:Europe/Dublin
BEGIN:VTIMEZONE
TZID:Etc/GMT-1
BEGIN:STANDARD
DTSTART:20010101T000000
TZOFFSETFROM:+0100
TZOFFSETTO:+0100
TZNAME:GMT +01:00
END:STANDARD
END:VTIMEZONE
BEGIN:VEVENT
UID:20260422T194332CEST-8288KUO0g0@horsealert.local
DTSTAMP:20260422T170432Z
CATEGORIES:Horse Alerts
DESCRIPTION:Oxfam Trailwalker Challenge 22nd-24th July Handicap
DTSTART:20160614T205000
LOCATION:England
SUMMARY:Horse Racing:Oxfam Trailwalker Challenge 22nd-24th July Handicap
END:VEVENT
END:VCALENDAR
