BEGIN:VCALENDAR
VERSION:2.0
PRODID:-//horsealert.local//NONSGML kigkonsult.se iCalcreator 2.10.5//
CALSCALE:GREGORIAN
X-WR-TIMEZONE:Europe/Dublin
BEGIN:VTIMEZONE
TZID:Etc/GMT-1
BEGIN:STANDARD
DTSTART:20010101T000000
TZOFFSETFROM:+0100
TZOFFSETTO:+0100
TZNAME:GMT +01:00
END:STANDARD
END:VTIMEZONE
BEGIN:VEVENT
UID:20260422T194102CEST-926719ouDn@horsealert.local
DTSTAMP:20260422T170402Z
CATEGORIES:Horse Alerts
DESCRIPTION:ROC Solutions - Official Electrical&Security Partner Handicap
DTSTART:20160614T182000
LOCATION:England
SUMMARY:Horse Racing:ROC Solutions - Official Electrical&Security Partner H
 andicap
END:VEVENT
END:VCALENDAR
