BEGIN:VCALENDAR
VERSION:2.0
PRODID:-//horsealert.local//NONSGML kigkonsult.se iCalcreator 2.10.5//
CALSCALE:GREGORIAN
X-WR-TIMEZONE:Europe/Dublin
BEGIN:VTIMEZONE
TZID:Etc/GMT-1
BEGIN:STANDARD
DTSTART:20010101T000000
TZOFFSETFROM:+0100
TZOFFSETTO:+0100
TZNAME:GMT +01:00
END:STANDARD
END:VTIMEZONE
BEGIN:VEVENT
UID:20260422T194105CEST-4821OASHW0@horsealert.local
DTSTAMP:20260422T170405Z
CATEGORIES:Horse Alerts
DESCRIPTION:Thursby Handicap (Jockey Club Grassroots Flat Middle Distance S
 eries Qual)
DTSTART:20160613T160000
LOCATION:England
SUMMARY:Horse Racing:Thursby Handicap (Jockey Club Grassroots Flat Middle D
 istance Series Qual)
END:VEVENT
END:VCALENDAR
