BEGIN:VCALENDAR
VERSION:2.0
PRODID:-//horsealert.local//NONSGML kigkonsult.se iCalcreator 2.10.5//
CALSCALE:GREGORIAN
X-WR-TIMEZONE:Europe/Dublin
BEGIN:VTIMEZONE
TZID:Etc/GMT-1
BEGIN:STANDARD
DTSTART:20010101T000000
TZOFFSETFROM:+0100
TZOFFSETTO:+0100
TZNAME:GMT +01:00
END:STANDARD
END:VTIMEZONE
BEGIN:VEVENT
UID:20260422T193929CEST-4707PUg6Tu@horsealert.local
DTSTAMP:20260422T170429Z
CATEGORIES:Horse Alerts
DESCRIPTION:St Martins Care Supporting Marie Curie Standard Open NH Flat Ra
 ce
DTSTART:20160611T173500
LOCATION:England
SUMMARY:Horse Racing:St Martins Care Supporting Marie Curie Standard Open N
 H Flat Race
END:VEVENT
END:VCALENDAR
