BEGIN:VCALENDAR
VERSION:2.0
PRODID:-//horsealert.local//NONSGML kigkonsult.se iCalcreator 2.10.5//
CALSCALE:GREGORIAN
X-WR-TIMEZONE:Europe/Dublin
BEGIN:VTIMEZONE
TZID:Etc/GMT-1
BEGIN:STANDARD
DTSTART:20010101T000000
TZOFFSETFROM:+0100
TZOFFSETTO:+0100
TZNAME:GMT +01:00
END:STANDARD
END:VTIMEZONE
BEGIN:VEVENT
UID:20260422T193832CEST-3939Vc3nsH@horsealert.local
DTSTAMP:20260422T170432Z
CATEGORIES:Horse Alerts
DESCRIPTION:Crossfit Northumbria Marie Curie Daffodil Dash Amateur Riders' 
 Handicap Hurdle
DTSTART:20160611T140500
LOCATION:England
SUMMARY:Horse Racing:Crossfit Northumbria Marie Curie Daffodil Dash Amateur
  Riders' Handicap Hurdle
END:VEVENT
END:VCALENDAR
