BEGIN:VCALENDAR
VERSION:2.0
PRODID:-//horsealert.local//NONSGML kigkonsult.se iCalcreator 2.10.5//
CALSCALE:GREGORIAN
X-WR-TIMEZONE:Europe/Dublin
BEGIN:VTIMEZONE
TZID:Etc/GMT-1
BEGIN:STANDARD
DTSTART:20010101T000000
TZOFFSETFROM:+0100
TZOFFSETTO:+0100
TZNAME:GMT +01:00
END:STANDARD
END:VTIMEZONE
BEGIN:VEVENT
UID:20260422T194156CEST-8101z6EAoF@horsealert.local
DTSTAMP:20260422T170456Z
CATEGORIES:Horse Alerts
DESCRIPTION:racinguk.com Apprentice Handicap (Jockey Club Grassroots Flat M
 iddle Distance Series Qualifier)
DTSTART:20160608T180000
LOCATION:England
SUMMARY:Horse Racing:racinguk.com Apprentice Handicap (Jockey Club Grassroo
 ts Flat Middle Distance Series Qualifier)
END:VEVENT
END:VCALENDAR
