BEGIN:VCALENDAR
VERSION:2.0
PRODID:-//horsealert.local//NONSGML kigkonsult.se iCalcreator 2.10.5//
CALSCALE:GREGORIAN
X-WR-TIMEZONE:Europe/Dublin
BEGIN:VTIMEZONE
TZID:Etc/GMT-1
BEGIN:STANDARD
DTSTART:20010101T000000
TZOFFSETFROM:+0100
TZOFFSETTO:+0100
TZNAME:GMT +01:00
END:STANDARD
END:VTIMEZONE
BEGIN:VEVENT
UID:20260422T194159CEST-37710teOz9@horsealert.local
DTSTAMP:20260422T170459Z
CATEGORIES:Horse Alerts
DESCRIPTION:Rabbit Skips Handicap Chase (For The Alan Arnell Trophy)
DTSTART:20160607T160000
LOCATION:England
SUMMARY:Horse Racing:Rabbit Skips Handicap Chase (For The Alan Arnell Troph
 y)
END:VEVENT
END:VCALENDAR
