BEGIN:VCALENDAR
VERSION:2.0
PRODID:-//horsealert.local//NONSGML kigkonsult.se iCalcreator 2.10.5//
CALSCALE:GREGORIAN
X-WR-TIMEZONE:Europe/Dublin
BEGIN:VTIMEZONE
TZID:Etc/GMT-1
BEGIN:STANDARD
DTSTART:20010101T000000
TZOFFSETFROM:+0100
TZOFFSETTO:+0100
TZNAME:GMT +01:00
END:STANDARD
END:VTIMEZONE
BEGIN:VEVENT
UID:20260422T194103CEST-5717x45uGj@horsealert.local
DTSTAMP:20260422T170403Z
CATEGORIES:Horse Alerts
DESCRIPTION:Westbourne Racing Club 'Primed For Royal Ascot' Handicap Hurdle
  (Div 1)
DTSTART:20160607T140000
LOCATION:England
SUMMARY:Horse Racing:Westbourne Racing Club 'Primed For Royal Ascot' Handic
 ap Hurdle (Div 1)
END:VEVENT
END:VCALENDAR
