BEGIN:VCALENDAR
VERSION:2.0
PRODID:-//horsealert.local//NONSGML kigkonsult.se iCalcreator 2.10.5//
CALSCALE:GREGORIAN
X-WR-TIMEZONE:Europe/Dublin
BEGIN:VTIMEZONE
TZID:Etc/GMT-1
BEGIN:STANDARD
DTSTART:20010101T000000
TZOFFSETFROM:+0100
TZOFFSETTO:+0100
TZNAME:GMT +01:00
END:STANDARD
END:VTIMEZONE
BEGIN:VEVENT
UID:20260422T194036CEST-2460t9gsBs@horsealert.local
DTSTAMP:20260422T170436Z
CATEGORIES:Horse Alerts
DESCRIPTION:EBF/toteplacepot Available At Every Meeting Novice Stakes
DTSTART:20160606T140000
LOCATION:Scotland
SUMMARY:Horse Racing:EBF/toteplacepot Available At Every Meeting Novice Sta
 kes
END:VEVENT
END:VCALENDAR
