BEGIN:VCALENDAR
VERSION:2.0
PRODID:-//horsealert.local//NONSGML kigkonsult.se iCalcreator 2.10.5//
CALSCALE:GREGORIAN
X-WR-TIMEZONE:Europe/Dublin
BEGIN:VTIMEZONE
TZID:Etc/GMT-1
BEGIN:STANDARD
DTSTART:20010101T000000
TZOFFSETFROM:+0100
TZOFFSETTO:+0100
TZNAME:GMT +01:00
END:STANDARD
END:VTIMEZONE
BEGIN:VEVENT
UID:20260422T194156CEST-6277xO5d1A@horsealert.local
DTSTAMP:20260422T170456Z
CATEGORIES:Horse Alerts
DESCRIPTION:Harriet The Pint Sized Fighter Memorial Veterans' Stakes (Handi
 cap)
DTSTART:20160605T145500
LOCATION:England
SUMMARY:Horse Racing:Harriet The Pint Sized Fighter Memorial Veterans' Stak
 es (Handicap)
END:VEVENT
END:VCALENDAR
