BEGIN:VCALENDAR
VERSION:2.0
PRODID:-//horsealert.local//NONSGML kigkonsult.se iCalcreator 2.10.5//
CALSCALE:GREGORIAN
X-WR-TIMEZONE:Europe/Dublin
BEGIN:VTIMEZONE
TZID:Etc/GMT-1
BEGIN:STANDARD
DTSTART:20010101T000000
TZOFFSETFROM:+0100
TZOFFSETTO:+0100
TZNAME:GMT +01:00
END:STANDARD
END:VTIMEZONE
BEGIN:VEVENT
UID:20260422T194228CEST-8573pGoZuo@horsealert.local
DTSTAMP:20260422T170428Z
CATEGORIES:Horse Alerts
DESCRIPTION:August Racing Festival 11th-14th Maiden Hurdle
DTSTART:20160604T132000
LOCATION:Eire
SUMMARY:Horse Racing:August Racing Festival 11th-14th Maiden Hurdle
END:VEVENT
END:VCALENDAR
