BEGIN:VCALENDAR
VERSION:2.0
PRODID:-//horsealert.local//NONSGML kigkonsult.se iCalcreator 2.10.5//
CALSCALE:GREGORIAN
X-WR-TIMEZONE:Europe/Dublin
BEGIN:VTIMEZONE
TZID:Etc/GMT-1
BEGIN:STANDARD
DTSTART:20010101T000000
TZOFFSETFROM:+0100
TZOFFSETTO:+0100
TZNAME:GMT +01:00
END:STANDARD
END:VTIMEZONE
BEGIN:VEVENT
UID:20260422T193941CEST-0904XuAa1H@horsealert.local
DTSTAMP:20260422T170441Z
CATEGORIES:Horse Alerts
DESCRIPTION:Queen Elizabeth II Coronation Cup (Sponsored By Investec) (Grou
 p 1)
DTSTART:20160604T151000
LOCATION:England
SUMMARY:Horse Racing:Queen Elizabeth II Coronation Cup (Sponsored By Invest
 ec) (Group 1)
END:VEVENT
END:VCALENDAR
