BEGIN:VCALENDAR
VERSION:2.0
PRODID:-//horsealert.local//NONSGML kigkonsult.se iCalcreator 2.10.5//
CALSCALE:GREGORIAN
X-WR-TIMEZONE:Europe/Dublin
BEGIN:VTIMEZONE
TZID:Etc/GMT-1
BEGIN:STANDARD
DTSTART:20010101T000000
TZOFFSETFROM:+0100
TZOFFSETTO:+0100
TZNAME:GMT +01:00
END:STANDARD
END:VTIMEZONE
BEGIN:VEVENT
UID:20260422T193813CEST-9798RLs7We@horsealert.local
DTSTAMP:20260422T170413Z
CATEGORIES:Horse Alerts
DESCRIPTION:Princess Elizabeth Stakes (Sponsored By Investec) (Fillies Grou
 p 3)
DTSTART:20160604T143500
LOCATION:England
SUMMARY:Horse Racing:Princess Elizabeth Stakes (Sponsored By Investec) (Fil
 lies Group 3)
END:VEVENT
END:VCALENDAR
