BEGIN:VCALENDAR
VERSION:2.0
PRODID:-//horsealert.local//NONSGML kigkonsult.se iCalcreator 2.10.5//
CALSCALE:GREGORIAN
X-WR-TIMEZONE:Europe/Dublin
BEGIN:VTIMEZONE
TZID:Etc/GMT-1
BEGIN:STANDARD
DTSTART:20010101T000000
TZOFFSETFROM:+0100
TZOFFSETTO:+0100
TZNAME:GMT +01:00
END:STANDARD
END:VTIMEZONE
BEGIN:VEVENT
UID:20260422T194032CEST-0589FTu5hd@horsealert.local
DTSTAMP:20260422T170432Z
CATEGORIES:Horse Alerts
DESCRIPTION:Track Your Football Acca With Ladbrokes Handicap (Str)
DTSTART:20160604T174000
LOCATION:England
SUMMARY:Horse Racing:Track Your Football Acca With Ladbrokes Handicap (Str)
END:VEVENT
END:VCALENDAR
