BEGIN:VCALENDAR
VERSION:2.0
PRODID:-//horsealert.local//NONSGML kigkonsult.se iCalcreator 2.10.5//
CALSCALE:GREGORIAN
X-WR-TIMEZONE:Europe/Dublin
BEGIN:VTIMEZONE
TZID:Etc/GMT-1
BEGIN:STANDARD
DTSTART:20010101T000000
TZOFFSETFROM:+0100
TZOFFSETTO:+0100
TZNAME:GMT +01:00
END:STANDARD
END:VTIMEZONE
BEGIN:VEVENT
UID:20260422T193931CEST-3780i4Aft9@horsealert.local
DTSTAMP:20260422T170431Z
CATEGORIES:Horse Alerts
DESCRIPTION:Bet In Play With Ladbrokes Classified Stakes (Plus 10)
DTSTART:20160604T161500
LOCATION:England
SUMMARY:Horse Racing:Bet In Play With Ladbrokes Classified Stakes (Plus 10)
END:VEVENT
END:VCALENDAR
