BEGIN:VCALENDAR
VERSION:2.0
PRODID:-//horsealert.local//NONSGML kigkonsult.se iCalcreator 2.10.5//
CALSCALE:GREGORIAN
X-WR-TIMEZONE:Europe/Dublin
BEGIN:VTIMEZONE
TZID:Etc/GMT-1
BEGIN:STANDARD
DTSTART:20010101T000000
TZOFFSETFROM:+0100
TZOFFSETTO:+0100
TZNAME:GMT +01:00
END:STANDARD
END:VTIMEZONE
BEGIN:VEVENT
UID:20260422T194137CEST-5621JI9Ju3@horsealert.local
DTSTAMP:20260422T170437Z
CATEGORIES:Horse Alerts
DESCRIPTION:188Bet Horse Racing Charter Fillies' Handicap (Div 2)
DTSTART:20160602T151000
LOCATION:England
SUMMARY:Horse Racing:188Bet Horse Racing Charter Fillies' Handicap (Div 2)
END:VEVENT
END:VCALENDAR
