BEGIN:VCALENDAR
VERSION:2.0
PRODID:-//horsealert.local//NONSGML kigkonsult.se iCalcreator 2.10.5//
CALSCALE:GREGORIAN
X-WR-TIMEZONE:Europe/Dublin
BEGIN:VTIMEZONE
TZID:Etc/GMT-1
BEGIN:STANDARD
DTSTART:20010101T000000
TZOFFSETFROM:+0100
TZOFFSETTO:+0100
TZNAME:GMT +01:00
END:STANDARD
END:VTIMEZONE
BEGIN:VEVENT
UID:20260422T194036CEST-7040NCrlNJ@horsealert.local
DTSTAMP:20260422T170436Z
CATEGORIES:Horse Alerts
DESCRIPTION:Christopher Leigh Farming Open Hunters' Chase (For The Horace D
 . Pain Memorial Trophy)
DTSTART:20160601T162000
LOCATION:England
SUMMARY:Horse Racing:Christopher Leigh Farming Open Hunters' Chase (For The
  Horace D. Pain Memorial Trophy)
END:VEVENT
END:VCALENDAR
