BEGIN:VCALENDAR
VERSION:2.0
PRODID:-//horsealert.local//NONSGML kigkonsult.se iCalcreator 2.10.5//
CALSCALE:GREGORIAN
X-WR-TIMEZONE:Europe/Dublin
BEGIN:VTIMEZONE
TZID:Etc/GMT-1
BEGIN:STANDARD
DTSTART:20010101T000000
TZOFFSETFROM:+0100
TZOFFSETTO:+0100
TZNAME:GMT +01:00
END:STANDARD
END:VTIMEZONE
BEGIN:VEVENT
UID:20260422T193806CEST-7779IBu75b@horsealert.local
DTSTAMP:20260422T170406Z
CATEGORIES:Horse Alerts
DESCRIPTION:toteswinger Three Ways To Win Handicap
DTSTART:20160601T163000
LOCATION:England
SUMMARY:Horse Racing:toteswinger Three Ways To Win Handicap
END:VEVENT
END:VCALENDAR
