BEGIN:VCALENDAR
VERSION:2.0
PRODID:-//horsealert.local//NONSGML kigkonsult.se iCalcreator 2.10.5//
CALSCALE:GREGORIAN
X-WR-TIMEZONE:Europe/Dublin
BEGIN:VTIMEZONE
TZID:Etc/GMT-1
BEGIN:STANDARD
DTSTART:20010101T000000
TZOFFSETFROM:+0100
TZOFFSETTO:+0100
TZNAME:GMT +01:00
END:STANDARD
END:VTIMEZONE
BEGIN:VEVENT
UID:20260422T210808CEST-7156RMUuUG@horsealert.local
DTSTAMP:20260422T190408Z
CATEGORIES:Horse Alerts
DESCRIPTION:Sir Stanley And Lady Clarke Chase (Handicap) (For The Sir Stanl
 ey And Lady Clarke Challenge Trophy)
DTSTART:20160529T162000
LOCATION:England
SUMMARY:Horse Racing:Sir Stanley And Lady Clarke Chase (Handicap) (For The 
 Sir Stanley And Lady Clarke Challenge Trophy)
END:VEVENT
END:VCALENDAR
