BEGIN:VCALENDAR
VERSION:2.0
PRODID:-//horsealert.local//NONSGML kigkonsult.se iCalcreator 2.10.5//
CALSCALE:GREGORIAN
X-WR-TIMEZONE:Europe/Dublin
BEGIN:VTIMEZONE
TZID:Etc/GMT-1
BEGIN:STANDARD
DTSTART:20010101T000000
TZOFFSETFROM:+0100
TZOFFSETTO:+0100
TZNAME:GMT +01:00
END:STANDARD
END:VTIMEZONE
BEGIN:VEVENT
UID:20260422T210744CEST-0297cTDvJb@horsealert.local
DTSTAMP:20260422T190444Z
CATEGORIES:Horse Alerts
DESCRIPTION:toteexacta Pick The 1st And 2nd Novices' Hurdle
DTSTART:20160528T193500
LOCATION:Wales
SUMMARY:Horse Racing:toteexacta Pick The 1st And 2nd Novices' Hurdle
END:VEVENT
END:VCALENDAR
