BEGIN:VCALENDAR
VERSION:2.0
PRODID:-//horsealert.local//NONSGML kigkonsult.se iCalcreator 2.10.5//
CALSCALE:GREGORIAN
X-WR-TIMEZONE:Europe/Dublin
BEGIN:VTIMEZONE
TZID:Etc/GMT-1
BEGIN:STANDARD
DTSTART:20010101T000000
TZOFFSETFROM:+0100
TZOFFSETTO:+0100
TZNAME:GMT +01:00
END:STANDARD
END:VTIMEZONE
BEGIN:VEVENT
UID:20260422T210912CEST-8217Ao5Uic@horsealert.local
DTSTAMP:20260422T190412Z
CATEGORIES:Horse Alerts
DESCRIPTION:Macbet Best Odds Guaranteed All Races Handicap
DTSTART:20160527T211000
LOCATION:Scotland
SUMMARY:Horse Racing:Macbet Best Odds Guaranteed All Races Handicap
END:VEVENT
END:VCALENDAR
