BEGIN:VCALENDAR
VERSION:2.0
PRODID:-//horsealert.local//NONSGML kigkonsult.se iCalcreator 2.10.5//
CALSCALE:GREGORIAN
X-WR-TIMEZONE:Europe/Dublin
BEGIN:VTIMEZONE
TZID:Etc/GMT-1
BEGIN:STANDARD
DTSTART:20010101T000000
TZOFFSETFROM:+0100
TZOFFSETTO:+0100
TZNAME:GMT +01:00
END:STANDARD
END:VTIMEZONE
BEGIN:VEVENT
UID:20260422T211435CEST-7229MORlnM@horsealert.local
DTSTAMP:20260422T190435Z
CATEGORIES:Horse Alerts
DESCRIPTION:Highland Spring Water Mandora Novice Auction Stakes (20\,000 Hi
 ghland Spring Water Series Qualifier)
DTSTART:20160525T140000
LOCATION:Scotland
SUMMARY:Horse Racing:Highland Spring Water Mandora Novice Auction Stakes (2
 0\,000 Highland Spring Water Series Qualifier)
END:VEVENT
END:VCALENDAR
